BEGIN:VCALENDAR
VERSION:2.0
PRODID:icalendar-ruby
CALSCALE:GREGORIAN
METHOD:PUBLISH
BEGIN:VEVENT
DTSTAMP:20260422T072127Z
UID:5-851383@sjbclive.com
DTSTART:20260705T160000Z
DTEND:20260705T170000Z
CLASS:PUBLIC
CREATED:20260421T185843
DESCRIPTION:Sunday Worship
LAST-MODIFIED:20260421T185843
LOCATION:
SUMMARY:Sunday Worship
URL;VALUE=URI:https://www.sjbclive.com/events/sunday-worship/2026-07-05
END:VEVENT
END:VCALENDAR
