BEGIN:VCALENDAR
VERSION:2.0
PRODID:icalendar-ruby
CALSCALE:GREGORIAN
METHOD:PUBLISH
BEGIN:VEVENT
DTSTAMP:20260422T191423Z
UID:5-852526@sjbclive.com
DTSTART:20260816T160000Z
DTEND:20260816T170000Z
CLASS:PUBLIC
CREATED:20260422T114733
DESCRIPTION:Sunday Worship
LAST-MODIFIED:20260422T114733
LOCATION:
SUMMARY:Sunday Worship
URL;VALUE=URI:https://www.sjbclive.com/events/sunday-worship/2026-08-16
END:VEVENT
END:VCALENDAR
